BEGIN:VCALENDAR
VERSION:2.0
PRODID:-//CDI Garches - ECPv6.15.20//NONSGML v1.0//EN
CALSCALE:GREGORIAN
METHOD:PUBLISH
X-WR-CALNAME:CDI Garches
X-ORIGINAL-URL:https://www.cdi-garches.com
X-WR-CALDESC:Évènements pour CDI Garches
REFRESH-INTERVAL;VALUE=DURATION:PT1H
X-Robots-Tag:noindex
X-PUBLISHED-TTL:PT1H
BEGIN:VTIMEZONE
TZID:Europe/Paris
BEGIN:DAYLIGHT
TZOFFSETFROM:+0100
TZOFFSETTO:+0200
TZNAME:CEST
DTSTART:20250330T010000
END:DAYLIGHT
BEGIN:STANDARD
TZOFFSETFROM:+0200
TZOFFSETTO:+0100
TZNAME:CET
DTSTART:20251026T010000
END:STANDARD
BEGIN:DAYLIGHT
TZOFFSETFROM:+0100
TZOFFSETTO:+0200
TZNAME:CEST
DTSTART:20260329T010000
END:DAYLIGHT
BEGIN:STANDARD
TZOFFSETFROM:+0200
TZOFFSETTO:+0100
TZNAME:CET
DTSTART:20261025T010000
END:STANDARD
BEGIN:DAYLIGHT
TZOFFSETFROM:+0100
TZOFFSETTO:+0200
TZNAME:CEST
DTSTART:20270328T010000
END:DAYLIGHT
BEGIN:STANDARD
TZOFFSETFROM:+0200
TZOFFSETTO:+0100
TZNAME:CET
DTSTART:20271031T010000
END:STANDARD
END:VTIMEZONE
BEGIN:VEVENT
DTSTART;TZID=Europe/Paris:20260506T143000
DTEND;TZID=Europe/Paris:20260506T163000
DTSTAMP:20260425T134039
CREATED:20260302T212414Z
LAST-MODIFIED:20260314T203730Z
UID:142730-1778077800-1778085000@www.cdi-garches.com
SUMMARY:VISITE GUIDÉE DE L’EXPOSITION MATISSE\,1941 – 1954  AU GRAND PALAIS PARIS
DESCRIPTION:Source image: Service de la documentation photographique du MNAM – Centre Pompidou\, MNAM-CCI – Henri Matisse\, Nu bleu II\, 1952 \nCatherine COUDERT\, guide conférencière\, accompagnera notre groupe d’adhérents du CDI pour la découverte commentée de cette exposition unique. \nDans la lumière éclatante de ses dernières années\, Matisse invente un nouveau langage : celui des formes découpées et de la couleur pure. Plus de 300 peintures\, dessins\, livres et gouaches découpées retracent\, entre 1941 et 1954\, le parcours d’un artiste libre et en perpétuel mouvement. \nL’exposition Matisse. 1941–1954 éclaire les dernières années de la carrière d’Henri Matisse\, entre 1941 et 1954\, à travers plus de 300 œuvres\, peintures\, dessins\, gouaches découpées\, livres illustrés\, textiles et vitraux\, issues de la collection du Centre Pompidou et de prêts internationaux majeurs. Elle révèle la dimension pluridisciplinaire de sa pratique pendant cette période tout en réunissant un ensemble exceptionnel de gouaches découpées. \nÀ près de 80 ans\, Matisse se réinvente avec la gouache découpée\, un médium qu’il érige en langage plastique autonome\, libre et capable d’atteindre l’universel par sa simplicité. Adaptée à la fois à la reproduction et aux commandes monumentales\, cette technique lui permet d’exprimer pleinement la dimension décorative de son art. \nL’exposition montre combien la peinture reste au cœur de sa démarche\, loin d’être supplantée par les découpages : elle se déploie au contraire avec toujours plus d’espace\, d’intensité et de couleur. Parmi les ensembles essentiels réunis dans le parcours figurent la magistrale et ultime série des Intérieurs de Vence de 1947-1948\, l’album Jazz\, les séries des Thèmes et variations ainsi que les dessins à l’encre au pinceau ; les principaux éléments du programme de la Chapelle de Vence ; les panneaux monumentaux de La Gerbe et des Acanthes\, et en point d’orgue\, exceptionnellement réunis\, les grandes figures en gouaches découpées : La Tristesse du roi\, Zulma\, La Danseuse créole et les célèbres Nus bleus. \nImaginée comme une traversée de l’univers du peintre\, l’exposition restitue l’atmosphère vibrante de son atelier\, en constante métamorphose. Une invitation à découvrir ce « jardin » florissant de Matisse\, salle après salle.
URL:https://www.cdi-garches.com/evenement/visite-guidee-de-lexposition-matisse1941-1954-au-grand-palais-paris/
LOCATION:Grand Palais Paris\, 17 Avenue du Général Eisenhower\,\, Paris\, 75008\, France
ORGANIZER;CN="Cercle de Documentation et d'Information de Garches":MAILTO:contact@cdi-garches.com
END:VEVENT
BEGIN:VEVENT
DTSTART;TZID=Europe/Paris:20260512T143000
DTEND;TZID=Europe/Paris:20260512T160000
DTSTAMP:20260425T134039
CREATED:20251223T204754Z
LAST-MODIFIED:20260314T205234Z
UID:68938-1778596200-1778601600@www.cdi-garches.com
SUMMARY:L’ÉVACUATION DE L'OR DE LA BANQUE DE FRANCE EN 1940
DESCRIPTION:Par Joël COYER\, membre de la Commission de programmation du CDI \nMai et juin 1940. \nLa France subit la plus terrible et la plus humiliante de ses défaites militaires.\nElle va subir\, pendant près de 4 ans le pillage de ses biens et les pires actions les plus inhumaines.\nCependant\, quelques hommes\, aidés par de nombreux autres vont mettre au point une évacuation de l’or que la France détient dans les coffres de sa Banque soit environ 2 800 tonnes. Cet or\, protégé pendant la guerre de ses ennemis\,  bien sûr\, mais aussi de ses amis\, parfois un peu trop intéressés\,va permettre à notre pays\, dès la libération et dans l’attente du plan Marshall de se redresser.\nCette histoire\, un peu trop oubliée mérite d’être  connue et ses héros\, qui connaîtront des situations diverses d’être reconnus.
URL:https://www.cdi-garches.com/evenement/levacuation-de-lor-de-la-banque-de-france-en-1940/
LOCATION:Centre Culturel Sidney Bechet\, 86 Grande Rue\, GARCHES\, 92380\, France
ORGANIZER;CN="Cercle de Documentation et d'Information de Garches":MAILTO:contact@cdi-garches.com
END:VEVENT
BEGIN:VEVENT
DTSTART;TZID=Europe/Paris:20260519T143000
DTEND;TZID=Europe/Paris:20260519T160000
DTSTAMP:20260425T134039
CREATED:20260321T181744Z
LAST-MODIFIED:20260321T181744Z
UID:162692-1779201000-1779206400@www.cdi-garches.com
SUMMARY:L’ÉPOPÉE INDUSTRIELLE DES HAUTS-DE-SEINE
DESCRIPTION:Source image: Création IA\nPar Madame Michèle de la MORANDIÈRE\, conférencière diplomée de l’Ecole du Louvre\, ingénieur ISEP \nNotre département a connu une aventure industrielle exceptionnelle\, portée par des figures visionnaires et des créateurs d’entreprises hors du commun. En un peu plus d’un siècle\, les Hauts-de-Seine sont devenus un véritable laboratoire d’innovations et de savoir-faire. \nAujourd’hui\, il ne subsiste presque rien de cette épopée. Les usines ont disparu\, les ateliers se sont tus\, et les paysages ont profondément changé. Pourtant\, grâce aux photographies et aux documents d’époque\, il est encore possible de faire revivre cet héritage fascinant. \nDes anciennes manufactures aux grandes industries\, toute une histoire se dessine\, marquée par des pionniers audacieux comme Jules-Albert de Dion\, Louis Blériot\, François Coty\, Louis Renault ou encore Marcel Dassault. Leurs noms résonnent encore comme les symboles d’une époque où tout semblait possible. \nCette aventure industrielle\, aujourd’hui presque effacée du paysage\, demeure pourtant profondément inscrite dans la mémoire du territoire.
URL:https://www.cdi-garches.com/evenement/lepopee-industrielle-des-hauts-de-seine/
LOCATION:Centre Culturel Sidney Bechet\, 86 Grande Rue\, GARCHES\, 92380\, France
END:VEVENT
BEGIN:VEVENT
DTSTART;TZID=Europe/Paris:20260526T143000
DTEND;TZID=Europe/Paris:20260526T160000
DTSTAMP:20260425T134039
CREATED:20260301T213201Z
LAST-MODIFIED:20260314T211651Z
UID:141007-1779805800-1779811200@www.cdi-garches.com
SUMMARY:LE BARRAGE D'ASSOUAN SUR LE NIL\, MAÎTRISE DE L'EAU
DESCRIPTION:par Marc BLANCHARD\, ancien attaché au service culturel de l’Ambassade de France au Caire\, ancien inspecteur d’académie \nLa maîtrise de l’eau et son accès en suffisance deviennent des problèmes majeurs pour l’humanité aux enjeux internationaux particulièrement sensibles. Marc BLANCHARD prend l’exemple égyptien pour les traiter. L’Egypte\, pays désertique\, dépend presque exclusivement du Nil et de ses crues pour son alimentation en eau. L’idée de réguler son débit par des barrages n’est pas neuve\, mais celui d’Assouan est d’une ampleur telle que les conséquences interrogent et inquiètent. Ces choix sont exemplaires pour notre avenir.
URL:https://www.cdi-garches.com/evenement/le-barrage-dassouan-sur-le-nil-maitrise-de-leau/
LOCATION:Centre Culturel Sidney Bechet\, 86 Grande Rue\, GARCHES\, 92380\, France
END:VEVENT
BEGIN:VEVENT
DTSTART;TZID=Europe/Paris:20260602T143000
DTEND;TZID=Europe/Paris:20260602T160000
DTSTAMP:20260425T134039
CREATED:20260302T100214Z
LAST-MODIFIED:20260314T212241Z
UID:141950-1780410600-1780416000@www.cdi-garches.com
SUMMARY:QUAND L’IA GÉNÉRATIVE S’INVITE AU CŒUR DE NOS VIES QUOTIDIENNES : DU PROFESSIONNEL À L'INTIME
DESCRIPTION:Par Romain BERTRAND\, docteur en sociologie\, coordinateur des programmes d’entrainement à l’IA générative à l’Université Libre de Bruxelles \nAu travail\, à l’école\, et jusque dans nos vies quotidiennes : l’Intelligence Artificielle générative* s’est invitée en seulement quelques années presque partout. De l’espace professionnel à la sphère intime\, de nouveaux réflexes transforment nos manières de travailler\, d’apprendre\, de décider\, de s’informer et d’interagir. Quelles sont les applications incontournables et les usages les plus communs ? \nCette conférence propose un tour d’horizon des enjeux sociétaux liés à l’essor de l’IA générative\, en explorant ses impacts sur le monde du travail\, dans l’éducation et jusque dans nos vies relationnelles. \n* L’intelligence artificielle générative fait référence à l’utilisation de l’IA pour créer de nouveaux contenus\, comme du texte\, des images\, de la musique\, de l’audio et des vidéos.
URL:https://www.cdi-garches.com/evenement/quand-lia-generative-sinvite-au-coeur-de-nos-vies-quotidiennes-du-professionnel-a-lintime/
LOCATION:Centre Culturel Sidney Bechet\, 86 Grande Rue\, GARCHES\, 92380\, France
ORGANIZER;CN="Cercle de Documentation et d'Information de Garches":MAILTO:contact@cdi-garches.com
END:VEVENT
BEGIN:VEVENT
DTSTART;TZID=Europe/Paris:20260609T143000
DTEND;TZID=Europe/Paris:20260609T160000
DTSTAMP:20260425T134039
CREATED:20251128T215400Z
LAST-MODIFIED:20260315T100958Z
UID:67441-1781015400-1781020800@www.cdi-garches.com
SUMMARY:NAPOLÉON 1er ET PARIS: LES GRANDS MONUMENTS IMPÉRIAUX
DESCRIPTION:Par Natalia GRIFFON DE PLEINEVILLE\, spécialiste de l’histoire napoléonienne\, auteur\, lauréate de 3 prix littéraires\, traductrice\, conférencière (Académie des sciences morales et politiques\, Fondation Napoléon 1er et Les 2 empires au cercle des armées. \nNapoléon Ier rêvait de faire de Paris\, où se déroulèrent les principaux événements de sa vie\, la plus belle capitale du monde\, « quelque chose de fabuleux\, de colossal\, d’inconnu jusqu’à nos jours ». Tout en ordonnant des travaux utilitaires (les fontaines\, les égouts\, les ponts\, etc.)\, il dota la ville de nombreux monuments dont certains font toujours sa fierté\, tels que les arcs de Triomphe (Carrousel\, Étoile) ou la colonne Vendôme. Cette conférence vous invite à une promenade au milieu du Paris impérial\, dominé par la personnalité du « petit caporal ».
URL:https://www.cdi-garches.com/evenement/napoleon-1er-et-paris-les-grands-monuments-imperiaux/
LOCATION:Centre Culturel Sidney Bechet\, 86 Grande Rue\, GARCHES\, 92380\, France
ORGANIZER;CN="Cercle de Documentation et d'Information de Garches":MAILTO:contact@cdi-garches.com
END:VEVENT
BEGIN:VEVENT
DTSTART;TZID=Europe/Paris:20261110T143000
DTEND;TZID=Europe/Paris:20261110T160000
DTSTAMP:20260425T134039
CREATED:20251007T092425Z
LAST-MODIFIED:20251223T224111Z
UID:66961-1794321000-1794326400@www.cdi-garches.com
SUMMARY:1876-2026 150 ANS DU FESTIVAL DE BAYREUTH\, LIEU DE POUVOIR ET D'INFLUENCE          
DESCRIPTION:Par Cyril PLANTE\, Pianiste et compositeur ; Président du Cercle National Richard Wagner de Paris \nEn 1876 s’ouvre le Festival de Bayreuth uniquement consacré aux œuvres d’un compositeur\, Richard Wagner. Ce sera un évènement culturel et son influence reste inégalée et toujours d’actualité après 150 ans. A l’aspect artistique s’ajoute un lieu où le pouvoir politique va malheureusement s’imposer\, notamment avec le IIIème Reich. Dans les années 50\, les descendants du compositeur devront faire oublier cette scorie de l’Histoire. Cependant à notre époque\, qu’en est-il de Bayreuth ? Quelle est son influence politique et artistique ?
URL:https://www.cdi-garches.com/evenement/bayreuth/
LOCATION:Centre Culturel Sidney Bechet\, 86 Grande Rue\, GARCHES\, 92380\, France
ORGANIZER;CN="Cercle de Documentation et d'Information de Garches":MAILTO:contact@cdi-garches.com
END:VEVENT
END:VCALENDAR